BEGIN:VCALENDAR
VERSION:2.0
PRODID:-//Evergreen Foundation - ECPv6.10.2//NONSGML v1.0//EN
CALSCALE:GREGORIAN
METHOD:PUBLISH
X-ORIGINAL-URL:https://evergreenfoundationnc.org
X-WR-CALDESC:Events for Evergreen Foundation
REFRESH-INTERVAL;VALUE=DURATION:PT1H
X-Robots-Tag:noindex
X-PUBLISHED-TTL:PT1H
BEGIN:VTIMEZONE
TZID:UTC
BEGIN:STANDARD
TZOFFSETFROM:+0000
TZOFFSETTO:+0000
TZNAME:UTC
DTSTART:20200101T000000
END:STANDARD
END:VTIMEZONE
BEGIN:VTIMEZONE
TZID:America/New_York
BEGIN:DAYLIGHT
TZOFFSETFROM:-0500
TZOFFSETTO:-0400
TZNAME:EDT
DTSTART:20180311T070000
END:DAYLIGHT
BEGIN:STANDARD
TZOFFSETFROM:-0400
TZOFFSETTO:-0500
TZNAME:EST
DTSTART:20181104T060000
END:STANDARD
BEGIN:DAYLIGHT
TZOFFSETFROM:-0500
TZOFFSETTO:-0400
TZNAME:EDT
DTSTART:20190310T070000
END:DAYLIGHT
BEGIN:STANDARD
TZOFFSETFROM:-0400
TZOFFSETTO:-0500
TZNAME:EST
DTSTART:20191103T060000
END:STANDARD
BEGIN:DAYLIGHT
TZOFFSETFROM:-0500
TZOFFSETTO:-0400
TZNAME:EDT
DTSTART:20200308T070000
END:DAYLIGHT
BEGIN:STANDARD
TZOFFSETFROM:-0400
TZOFFSETTO:-0500
TZNAME:EST
DTSTART:20201101T060000
END:STANDARD
BEGIN:DAYLIGHT
TZOFFSETFROM:-0500
TZOFFSETTO:-0400
TZNAME:EDT
DTSTART:20210314T070000
END:DAYLIGHT
BEGIN:STANDARD
TZOFFSETFROM:-0400
TZOFFSETTO:-0500
TZNAME:EST
DTSTART:20211107T060000
END:STANDARD
END:VTIMEZONE
BEGIN:VEVENT
DTSTART;TZID=UTC:20230206T170000
DTEND;TZID=UTC:20230206T180000
DTSTAMP:20260421T131636
CREATED:20221208T155608Z
LAST-MODIFIED:20221208T155608Z
UID:644-1675702800-1675706400@evergreenfoundationnc.org
SUMMARY:Evergreen Foundation board meeting
DESCRIPTION:The Evergreen Foundation board meeting will be held on Wednesday\, March 29\, 2023 at the Carpenter-Crawford Professional Building\, 100 Thomas Heights Rd.\, Franklin\, North Carolina.
URL:https://evergreenfoundationnc.org/event/evergreen-foundation-board-meeting-22/
END:VEVENT
BEGIN:VEVENT
DTSTART;TZID=UTC:20221207T080000
DTEND;TZID=UTC:20221207T080000
DTSTAMP:20260421T131636
CREATED:20220927T154208Z
LAST-MODIFIED:20220927T154425Z
UID:631-1670400000-1670400000@evergreenfoundationnc.org
SUMMARY:Evergreen Foundation Board Meeting
DESCRIPTION:The Evergreen Foundation board meeting will be held on Wednesday\, December 7\, 2022 at the Carpenter-Crawford Professional Building\, 100 Thomas Heights Rd.\, Franklin\, North Carolina.
URL:https://evergreenfoundationnc.org/event/evergreen-foundation-board-meeting-21/
LOCATION:Thomas Heights facility\, Franklin\, NC\, United States
END:VEVENT
BEGIN:VEVENT
DTSTART;TZID=UTC:20220907T080000
DTEND;TZID=UTC:20220907T170000
DTSTAMP:20260421T131636
CREATED:20220609T151429Z
LAST-MODIFIED:20220609T151429Z
UID:620-1662537600-1662570000@evergreenfoundationnc.org
SUMMARY:Evergreen Foundation board meeting
DESCRIPTION:The Evergreen Foundation board meeting will be held on Wednesday\, September 7\, 2022 at the Carpenter-Crawford Professional Building\, 100 Thomas Heights Rd.\, Franklin\, North Carolina.
URL:https://evergreenfoundationnc.org/event/evergreen-foundation-board-meeting-20/
END:VEVENT
BEGIN:VEVENT
DTSTART;TZID=UTC:20220608T123000
DTEND;TZID=UTC:20220608T140000
DTSTAMP:20260421T131636
CREATED:20220317T152251Z
LAST-MODIFIED:20220317T152306Z
UID:609-1654691400-1654696800@evergreenfoundationnc.org
SUMMARY:Evergreen Foundation Board Meeting
DESCRIPTION:The Evergreen Foundation board meeting will be held at 12:30 p.m. on Wednesday\, June 8\, 2022 at the Carpenter-Crawford Professional Building\, 100 Thomas Heights Rd.\, Franklin\, North Carolina.
URL:https://evergreenfoundationnc.org/event/evergreen-foundation-board-meeting-19/
CATEGORIES:Board Meetings
END:VEVENT
BEGIN:VEVENT
DTSTART;TZID=UTC:20220316T123000
DTEND;TZID=UTC:20220316T133000
DTSTAMP:20260421T131636
CREATED:20211206T153946Z
LAST-MODIFIED:20211206T154030Z
UID:598-1647433800-1647437400@evergreenfoundationnc.org
SUMMARY:Evergreen Foundation Board Meeting
DESCRIPTION:The Evergreen Foundation board meeting will be held on Wednesday\, March 16\, 2022 at the Carpenter-Crawford Professional Building\, 100 Thomas Heights Rd.\, Franklin\, North Carolina.
URL:https://evergreenfoundationnc.org/event/board-meeting/
END:VEVENT
BEGIN:VEVENT
DTSTART;TZID=America/New_York:20211208T123000
DTEND;TZID=America/New_York:20211208T133000
DTSTAMP:20260421T131636
CREATED:20210930T195443Z
LAST-MODIFIED:20210930T195443Z
UID:586-1638966600-1638970200@evergreenfoundationnc.org
SUMMARY:Evergreen Foundation Board Meeting
DESCRIPTION:The Evergreen Foundation board meeting will be held on Wednesday\, December 8\, 2021 at 12:30 PM. at the Carpenter-Crawford Professional Building\, 100 Thomas Heights Rd.\, Franklin\, North Carolina.
URL:https://evergreenfoundationnc.org/event/evergreen-foundation-board-meeting-18/
END:VEVENT
BEGIN:VEVENT
DTSTART;TZID=America/New_York:20210929T123000
DTEND;TZID=America/New_York:20210929T133000
DTSTAMP:20260421T131636
CREATED:20210623T135608Z
LAST-MODIFIED:20210623T135608Z
UID:578-1632918600-1632922200@evergreenfoundationnc.org
SUMMARY:Evergreen Foundation Board Meeting
DESCRIPTION:The Evergreen Foundation board meeting will be held on Wednesday\, September 29\, 2021 at 12:30 PM. at the Carpenter-Crawford Professional Building\, 100 Thomas Heights Rd.\, Franklin\, North Carolina.
URL:https://evergreenfoundationnc.org/event/evergreen-foundation-board-meeting-17/
END:VEVENT
BEGIN:VEVENT
DTSTART;TZID=UTC:20210831T080000
DTEND;TZID=UTC:20210831T170000
DTSTAMP:20260421T131636
CREATED:20210623T135133Z
LAST-MODIFIED:20210623T135133Z
UID:576-1630396800-1630429200@evergreenfoundationnc.org
SUMMARY:Grant Deadline
DESCRIPTION:Deadline for second quarter grant proposals: August 31\, 2021 at 5:00 p.m.
URL:https://evergreenfoundationnc.org/event/grant-deadline-2/
END:VEVENT
BEGIN:VEVENT
DTSTART;TZID=UTC:20210616T123000
DTEND;TZID=UTC:20210616T133000
DTSTAMP:20260421T131636
CREATED:20201208T183428Z
LAST-MODIFIED:20210331T180649Z
UID:541-1623846600-1623850200@evergreenfoundationnc.org
SUMMARY:Evergreen Foundation Board Meeting
DESCRIPTION:The Evergreen Foundation board meeting will be held on Wednesday\, June 16\, 2021 at 12:30 PM. Location TBA.
URL:https://evergreenfoundationnc.org/event/evergreen-foundation-board-meeting-16/
END:VEVENT
BEGIN:VEVENT
DTSTART;TZID=UTC:20210521T080000
DTEND;TZID=UTC:20210521T170000
DTSTAMP:20260421T131636
CREATED:20201208T183520Z
LAST-MODIFIED:20210331T180458Z
UID:543-1621584000-1621616400@evergreenfoundationnc.org
SUMMARY:Grant Deadline
DESCRIPTION:Deadline for First quarter grants: May 21\, 2021 at 5:00 p.m.
URL:https://evergreenfoundationnc.org/event/grant-deadline/
END:VEVENT
BEGIN:VEVENT
DTSTART;TZID=UTC:20201116T080000
DTEND;TZID=UTC:20201116T170000
DTSTAMP:20260421T131636
CREATED:20200909T143840Z
LAST-MODIFIED:20200910T184147Z
UID:529-1605513600-1605546000@evergreenfoundationnc.org
SUMMARY:3rd Quarter Grant Proposals
DESCRIPTION:3rd Quarter grant proposals are due by 5 p.m. on November 16\, 2020
URL:https://evergreenfoundationnc.org/event/3rd-quarter-grant-proposals-2/
END:VEVENT
BEGIN:VEVENT
DTSTART;TZID=America/New_York:20200925T093000
DTEND;TZID=America/New_York:20200925T093000
DTSTAMP:20260421T131636
CREATED:20200701T170814Z
LAST-MODIFIED:20200811T135748Z
UID:464-1601026200-1601026200@evergreenfoundationnc.org
SUMMARY:Evergreen Foundation Board Meeting
DESCRIPTION:The meeting of the Evergreen Foundation Board of Directors will be held on Friday\, September 25th\, 2020 at the Carpenter Crawford Professional Building\, 100 Thomas Heights Road in Franklin\, N.C. at 9:30 a.m.
URL:https://evergreenfoundationnc.org/event/evergreen-foundation-board-meeting-15/
END:VEVENT
BEGIN:VEVENT
DTSTART;TZID=America/New_York:20200821T170000
DTEND;TZID=America/New_York:20200821T170000
DTSTAMP:20260421T131636
CREATED:20200701T171022Z
LAST-MODIFIED:20200701T171022Z
UID:466-1598029200-1598029200@evergreenfoundationnc.org
SUMMARY:2nd Quarter Grant Proposals
DESCRIPTION:Deadline for submitting grant proposals for review at the September board of director’s meeting is 5 p.m. on August 21\, 2020. If you have any questions\, please contact the foundation at dcoleman@evergreennc.org or call 828-456-8005.
URL:https://evergreenfoundationnc.org/event/2nd-quarter-grant-proposals-3/
END:VEVENT
BEGIN:VEVENT
DTSTART;TZID=America/New_York:20200626T093000
DTEND;TZID=America/New_York:20200626T120000
DTSTAMP:20260421T131636
CREATED:20200324T132012Z
LAST-MODIFIED:20200324T132012Z
UID:461-1593163800-1593172800@evergreenfoundationnc.org
SUMMARY:Evergreen Foundation Board Meeting
DESCRIPTION:The meeting of the Evergreen Foundation Board of Directors will be held on Friday\, June 26\, 2020 at the Carpenter Crawford Professional Building\, 100 Thomas Heights Road in Franklin\, N.C. at 9:30 a.m.
URL:https://evergreenfoundationnc.org/event/evergreen-foundation-board-meeting-14/
END:VEVENT
BEGIN:VEVENT
DTSTART;TZID=America/New_York:20200529T170000
DTEND;TZID=America/New_York:20200529T170000
DTSTAMP:20260421T131636
CREATED:20200324T131852Z
LAST-MODIFIED:20200324T131852Z
UID:459-1590771600-1590771600@evergreenfoundationnc.org
SUMMARY:1st Quarter Grant Proposals
DESCRIPTION:Deadline for submitting grant proposals for review at the June board of director’s meeting is 5 p.m. on May 29\, 2020. If you have any questions\, please contact the foundation at dcoleman@evergreennc.org or call 828-456-8005.
URL:https://evergreenfoundationnc.org/event/1st-quarter-grant-proposals/
END:VEVENT
BEGIN:VEVENT
DTSTART;TZID=America/New_York:20200320T093000
DTEND;TZID=America/New_York:20200320T123000
DTSTAMP:20260421T131636
CREATED:20181002T073353Z
LAST-MODIFIED:20181002T073353Z
UID:416-1584696600-1584707400@evergreenfoundationnc.org
SUMMARY:Evergreen Foundation Board Meeting
DESCRIPTION:The meeting of the Evergreen Foundation Board of Directors will be held on Friday\, March 20\, 2020 at the Carpenter Crawford Professional Building\, Franklin\, N.C. at 9:30 a.m.
URL:https://evergreenfoundationnc.org/event/evergreen-foundation-board-meeting-10/
LOCATION:Carpenter Crawford Professional Building\, 100 Thomas Heights Rd.\, Franklin\, NC\, United States
END:VEVENT
BEGIN:VEVENT
DTSTART;TZID=America/New_York:20200228T170000
DTEND;TZID=America/New_York:20200228T170000
DTSTAMP:20260421T131636
CREATED:20191209T185218Z
LAST-MODIFIED:20191209T185218Z
UID:450-1582909200-1582909200@evergreenfoundationnc.org
SUMMARY:4th Quarter Grant Proposals
DESCRIPTION:Deadline for submitting grant proposals for review at the March 2020 board of director’s meeting is 5 p.m. on February 28\, 2020. If you have any questions\, please contact the foundation at dcoleman@evergreennc.org or call 828-456-8005.
URL:https://evergreenfoundationnc.org/event/4th-quarter-grant-proposals/
END:VEVENT
BEGIN:VEVENT
DTSTART;TZID=America/New_York:20191213T093000
DTEND;TZID=America/New_York:20191213T120000
DTSTAMP:20260421T131636
CREATED:20191002T140119Z
LAST-MODIFIED:20191002T140119Z
UID:444-1576229400-1576238400@evergreenfoundationnc.org
SUMMARY:Evergreen Foundation Board Meeting
DESCRIPTION:The meeting of the Evergreen Foundation Board of Directors will be held on Friday\, December 13\, 2019 at the Carpenter Crawford Professional Building\, 100 Thomas Heights Road in Franklin\, N.C. at 9:30 a.m.
URL:https://evergreenfoundationnc.org/event/evergreen-foundation-board-meeting-13/
END:VEVENT
BEGIN:VEVENT
DTSTART;TZID=America/New_York:20191115T170000
DTEND;TZID=America/New_York:20191115T170000
DTSTAMP:20260421T131636
CREATED:20190901T085019Z
LAST-MODIFIED:20190901T085019Z
UID:441-1573837200-1573837200@evergreenfoundationnc.org
SUMMARY:Deadline for 3rd Quarter 2019 Grants
DESCRIPTION:Deadline for submitting grant proposals for review at the December board of director’s meeting is 5 p.m. on November 15\, 2019. If you have any questions\, please contact the foundation at dcoleman@evergreennc.org or call 828-456-8005.
URL:https://evergreenfoundationnc.org/event/deadline-for-3rd-quarter-2019-grants/
END:VEVENT
BEGIN:VEVENT
DTSTART;TZID=America/New_York:20190927T093000
DTEND;TZID=America/New_York:20190927T123000
DTSTAMP:20260421T131636
CREATED:20190708T074426Z
LAST-MODIFIED:20190708T074426Z
UID:437-1569576600-1569587400@evergreenfoundationnc.org
SUMMARY:Evergreen Foundation Board Meeting
DESCRIPTION:The meeting of the Evergreen Foundation Board of Directors will be held on Friday\, September 27\, 2019 at the Carpenter Crawford Professional Building\, 100 Thomas Heights Road in Franklin\, N.C. at 9:30 a.m.
URL:https://evergreenfoundationnc.org/event/evergreen-foundation-board-meeting-12/
END:VEVENT
BEGIN:VEVENT
DTSTART;TZID=America/New_York:20190831T170000
DTEND;TZID=America/New_York:20190831T170000
DTSTAMP:20260421T131636
CREATED:20190605T135103Z
LAST-MODIFIED:20190605T135103Z
UID:433-1567270800-1567270800@evergreenfoundationnc.org
SUMMARY:2nd Quarter Grant Proposals
DESCRIPTION:Deadline for submitting grant proposals for review at the September board of director’s meeting is 5 p.m. on August 31\, 2019. If you have any questions\, please contact the foundation at dcoleman@evergreennc.org or call 828-456-8005.
URL:https://evergreenfoundationnc.org/event/2nd-quarter-grant-proposals-2/
END:VEVENT
BEGIN:VEVENT
DTSTART;TZID=America/New_York:20190628T093000
DTEND;TZID=America/New_York:20190628T120000
DTSTAMP:20260421T131636
CREATED:20190605T134953Z
LAST-MODIFIED:20190605T134953Z
UID:431-1561714200-1561723200@evergreenfoundationnc.org
SUMMARY:Evergreen Foundation Board Meeting
DESCRIPTION:The meeting of the Evergreen Foundation Board of Directors will be held on Friday\, June 28\, 2019 at the Carpenter Crawford Professional Building\, 100 Thomas Heights Road in Franklin\, N.C. at 9:30 a.m.
URL:https://evergreenfoundationnc.org/event/evergreen-foundation-board-meeting-11/
END:VEVENT
BEGIN:VEVENT
DTSTART;TZID=America/New_York:20190531T170000
DTEND;TZID=America/New_York:20190531T170000
DTSTAMP:20260421T131636
CREATED:20190307T064417Z
LAST-MODIFIED:20190307T064417Z
UID:427-1559322000-1559322000@evergreenfoundationnc.org
SUMMARY:1st Quarter 2019-2020 Grant Proposals
DESCRIPTION:Deadline for submitting grant proposals for review at the June board of director’s meeting is 5 p.m. on May 31\, 2019. If you have any questions\, please contact the foundation at dcoleman@evergreennc.org or call 828-456-8005.
URL:https://evergreenfoundationnc.org/event/1st-quarter-2019-2020-grant-proposals/
END:VEVENT
BEGIN:VEVENT
DTSTART;TZID=America/New_York:20190228T170000
DTEND;TZID=America/New_York:20190228T170000
DTSTAMP:20260421T131636
CREATED:20171203T143336Z
LAST-MODIFIED:20171203T143336Z
UID:403-1551373200-1551373200@evergreenfoundationnc.org
SUMMARY:Deadline For 4th Quarter Grant Proposals
DESCRIPTION:The deadline for submitting 4th quarter grant proposals is 5 p.m. on February 28\, 2019. If you have any questions\, please contact the Evergreen Foundation at dcoleman@evergreennc.org
URL:https://evergreenfoundationnc.org/event/deadline-for-4th-quarter-grant-proposals/
END:VEVENT
BEGIN:VEVENT
DTSTART;TZID=America/New_York:20181116T170000
DTEND;TZID=America/New_York:20181116T170000
DTSTAMP:20260421T131636
CREATED:20181002T073132Z
LAST-MODIFIED:20181002T073132Z
UID:415-1542387600-1542387600@evergreenfoundationnc.org
SUMMARY:3rd Quarter Grant Proposals
DESCRIPTION:Deadline for submitting grant proposals for review at the December board of director’s meeting is 5 p.m. on November 16\, 2018. If you have any questions\, please contact the foundation at dcoleman@evergreennc.org or call 828-456-8005.
URL:https://evergreenfoundationnc.org/event/3rd-quarter-grant-proposals/
END:VEVENT
BEGIN:VEVENT
DTSTART;TZID=America/New_York:20180928T093000
DTEND;TZID=America/New_York:20180928T123000
DTSTAMP:20260421T131636
CREATED:20180623T085815Z
LAST-MODIFIED:20180623T085815Z
UID:412-1538127000-1538137800@evergreenfoundationnc.org
SUMMARY:Evergreen Foundation Board Meeting
DESCRIPTION:The meeting of the Evergreen Foundation Board of Directors will be held on Friday\, September 28\, 2018 at the Carpenter Crawford Professional Building\, 100 Thomas Heights Road in Franklin\, N.C. at 9:30 a.m.
URL:https://evergreenfoundationnc.org/event/evergreen-foundation-board-meeting-9/
LOCATION:Carpenter Crawford Professional Building\, 100 Thomas Heights Rd.\, Franklin\, NC\, United States
END:VEVENT
BEGIN:VEVENT
DTSTART;TZID=America/New_York:20180831T170000
DTEND;TZID=America/New_York:20180831T170000
DTSTAMP:20260421T131636
CREATED:20180623T090201Z
LAST-MODIFIED:20180623T090201Z
UID:413-1535734800-1535734800@evergreenfoundationnc.org
SUMMARY:2nd Quarter Grant Proposals
DESCRIPTION:Deadline for submitting grant proposals for review at the September board of director’s meeting is 5 p.m. on August 31\, 2018. If you have any questions\, please contact the foundation at dcoleman@evergreennc.org or call 828-456-8005.
URL:https://evergreenfoundationnc.org/event/2nd-quarter-grant-proposals/
END:VEVENT
BEGIN:VEVENT
DTSTART;TZID=America/New_York:20180622T093000
DTEND;TZID=America/New_York:20180622T123000
DTSTAMP:20260421T131636
CREATED:20180319T070044Z
LAST-MODIFIED:20180319T070044Z
UID:407-1529659800-1529670600@evergreenfoundationnc.org
SUMMARY:Evergreen Foundation Board Meeting
DESCRIPTION:The meeting of the Evergreen Foundation Board of Directors will be held on Friday\, June 22\, 2018 at the Carpenter Crawford Professional Building\, 100 Thomas Heights Road in Franklin\, N.C. at 9:30 a.m.
URL:https://evergreenfoundationnc.org/event/evergreen-foundation-board-meeting-8/
LOCATION:Carpenter Crawford Professional Building\, 100 Thomas Heights Rd.\, Franklin\, NC\, United States
END:VEVENT
BEGIN:VEVENT
DTSTART;TZID=America/New_York:20180531T170000
DTEND;TZID=America/New_York:20180531T170000
DTSTAMP:20260421T131636
CREATED:20180319T070418Z
LAST-MODIFIED:20180319T070418Z
UID:408-1527786000-1527786000@evergreenfoundationnc.org
SUMMARY:Deadline for 1st Quarter 2018-2019 Grants
DESCRIPTION:The deadline for submitting grant proposals for review at the June 22\, 2018 Board of Directors Meeting is 5 p.m. May 31\, 2018. If you have any questions\, please contact the Evergreen Foundation.
URL:https://evergreenfoundationnc.org/event/deadline-for-1st-quarter-2018-2019-grants/
END:VEVENT
BEGIN:VEVENT
DTSTART;TZID=America/New_York:20180316T093000
DTEND;TZID=America/New_York:20180316T120000
DTSTAMP:20260421T131636
CREATED:20171203T143047Z
LAST-MODIFIED:20171203T143047Z
UID:402-1521192600-1521201600@evergreenfoundationnc.org
SUMMARY:Evergreen Foundation Board Meeting
DESCRIPTION:The next meeting of the Evergreen Foundation Board of Directors will be held on Friday March 16\, 2018\, 9:30 at the Carpenter-Crawford Professional Building\, 100 Thomas Heights Road in Franklin\, NC.
URL:https://evergreenfoundationnc.org/event/evergreen-foundation-board-meeting-7/
LOCATION:Carpenter Crawford Professional Building\, 100 Thomas Heights Rd.\, Franklin\, NC\, United States
END:VEVENT
END:VCALENDAR